BEGIN:VCALENDAR
VERSION:2.0
PRODID:-//Heimatverein Grevenbrück e.V. - ECPv6.15.20//NONSGML v1.0//EN
CALSCALE:GREGORIAN
METHOD:PUBLISH
X-WR-CALNAME:Heimatverein Grevenbrück e.V.
X-ORIGINAL-URL:http://www.heimatverein-grevenbrueck.de
X-WR-CALDESC:Veranstaltungen für Heimatverein Grevenbrück e.V.
REFRESH-INTERVAL;VALUE=DURATION:PT1H
X-Robots-Tag:noindex
X-PUBLISHED-TTL:PT1H
BEGIN:VTIMEZONE
TZID:Europe/Berlin
BEGIN:DAYLIGHT
TZOFFSETFROM:+0100
TZOFFSETTO:+0200
TZNAME:CEST
DTSTART:20190331T010000
END:DAYLIGHT
BEGIN:STANDARD
TZOFFSETFROM:+0200
TZOFFSETTO:+0100
TZNAME:CET
DTSTART:20191027T010000
END:STANDARD
BEGIN:DAYLIGHT
TZOFFSETFROM:+0100
TZOFFSETTO:+0200
TZNAME:CEST
DTSTART:20200329T010000
END:DAYLIGHT
BEGIN:STANDARD
TZOFFSETFROM:+0200
TZOFFSETTO:+0100
TZNAME:CET
DTSTART:20201025T010000
END:STANDARD
BEGIN:DAYLIGHT
TZOFFSETFROM:+0100
TZOFFSETTO:+0200
TZNAME:CEST
DTSTART:20210328T010000
END:DAYLIGHT
BEGIN:STANDARD
TZOFFSETFROM:+0200
TZOFFSETTO:+0100
TZNAME:CET
DTSTART:20211031T010000
END:STANDARD
BEGIN:DAYLIGHT
TZOFFSETFROM:+0100
TZOFFSETTO:+0200
TZNAME:CEST
DTSTART:20220327T010000
END:DAYLIGHT
BEGIN:STANDARD
TZOFFSETFROM:+0200
TZOFFSETTO:+0100
TZNAME:CET
DTSTART:20221030T010000
END:STANDARD
BEGIN:DAYLIGHT
TZOFFSETFROM:+0100
TZOFFSETTO:+0200
TZNAME:CEST
DTSTART:20230326T010000
END:DAYLIGHT
BEGIN:STANDARD
TZOFFSETFROM:+0200
TZOFFSETTO:+0100
TZNAME:CET
DTSTART:20231029T010000
END:STANDARD
BEGIN:DAYLIGHT
TZOFFSETFROM:+0100
TZOFFSETTO:+0200
TZNAME:CEST
DTSTART:20240331T010000
END:DAYLIGHT
BEGIN:STANDARD
TZOFFSETFROM:+0200
TZOFFSETTO:+0100
TZNAME:CET
DTSTART:20241027T010000
END:STANDARD
BEGIN:DAYLIGHT
TZOFFSETFROM:+0100
TZOFFSETTO:+0200
TZNAME:CEST
DTSTART:20250330T010000
END:DAYLIGHT
BEGIN:STANDARD
TZOFFSETFROM:+0200
TZOFFSETTO:+0100
TZNAME:CET
DTSTART:20251026T010000
END:STANDARD
BEGIN:DAYLIGHT
TZOFFSETFROM:+0100
TZOFFSETTO:+0200
TZNAME:CEST
DTSTART:20260329T010000
END:DAYLIGHT
BEGIN:STANDARD
TZOFFSETFROM:+0200
TZOFFSETTO:+0100
TZNAME:CET
DTSTART:20261025T010000
END:STANDARD
BEGIN:DAYLIGHT
TZOFFSETFROM:+0100
TZOFFSETTO:+0200
TZNAME:CEST
DTSTART:20270328T010000
END:DAYLIGHT
BEGIN:STANDARD
TZOFFSETFROM:+0200
TZOFFSETTO:+0100
TZNAME:CET
DTSTART:20271031T010000
END:STANDARD
END:VTIMEZONE
BEGIN:VEVENT
DTSTART;TZID=Europe/Berlin:20260417T170000
DTEND;TZID=Europe/Berlin:20260417T190000
DTSTAMP:20260420T083104
CREATED:20260413T114841Z
LAST-MODIFIED:20260413T115148Z
UID:3055-1776445200-1776452400@www.heimatverein-grevenbrueck.de
SUMMARY:Tag der Sauberkeit in Grevenbrück
DESCRIPTION:Auch in diesem Jahr wollen wir unseren schönen Ort Grevenbrück zum „Tag der Sauberkeit“ auf Vordermann bringen. \nWir bitten daher die Grevenbrücker Bürgerinnen und Bürger\, ob jung oder alt\, um Mithilfe beim Großreinemachen. \nWir treffen uns am Freitag\, den 17.04.2026 um 17.00 h am Förder Platz. \nWir freuen uns auf eine rege Beteiligung. \nJedes Kind bekommt bei der Teilnahme als Dankeschön ein kleines Geschenk. \nBitte Handschuhe mitbringen. Mülltüten werden gestellt. \n 
URL:http://www.heimatverein-grevenbrueck.de/event/tag-der-sauberkeit-in-grevenbrueck-3
LOCATION:Förder Platz\, Förder Platz\, Lennestadt\, NRW\, 57368\, Deutschland
END:VEVENT
BEGIN:VEVENT
DTSTART;TZID=Europe/Berlin:20260327T190000
DTEND;TZID=Europe/Berlin:20260327T220000
DTSTAMP:20260420T083104
CREATED:20260303T063615Z
LAST-MODIFIED:20260303T063615Z
UID:3043-1774638000-1774648800@www.heimatverein-grevenbrueck.de
SUMMARY:Jahreshauptversammlung 2026
DESCRIPTION:Einladung zur Jahreshauptversammlung 2026 \nFreitag 27.03.2026 \, 19.00 Uhr ; Kulturbahnhof Lennestadt Grevenbrück \nEinladung JV 2026
URL:http://www.heimatverein-grevenbrueck.de/event/jahreshauptversammlung-2026
LOCATION:Kulturbahnhof Grevenbrück\, Bahnhofsplatz 10\, Lennestadt\, 57368\, Deutschland
ATTACH;FMTTYPE=image/jpeg:http://www.heimatverein-grevenbrueck.de/wp-content/uploads/2026/03/Einladung-JV-2026-scaled.jpg
END:VEVENT
BEGIN:VEVENT
DTSTART;TZID=Europe/Berlin:20240108T190000
DTEND;TZID=Europe/Berlin:20240108T203000
DTSTAMP:20260420T083104
CREATED:20240104T131343Z
LAST-MODIFIED:20240104T131426Z
UID:2951-1704740400-1704745800@www.heimatverein-grevenbrueck.de
SUMMARY:Vorstand- und Beiratssitzung
DESCRIPTION:
URL:http://www.heimatverein-grevenbrueck.de/event/vorstand-und-beitatssitzung
LOCATION:Museum der Stadt Lennestadt\, Altes Amtshaus\, Kölner Straße 57\, Lennestadt-Grevenbrück\, 57368\, Deutschland
END:VEVENT
BEGIN:VEVENT
DTSTART;TZID=Europe/Berlin:20231125T093000
DTEND;TZID=Europe/Berlin:20231125T130000
DTSTAMP:20260420T083104
CREATED:20231123T065902Z
LAST-MODIFIED:20231123T065902Z
UID:2930-1700904600-1700917200@www.heimatverein-grevenbrueck.de
SUMMARY:Pflege Grünflächen
DESCRIPTION:Laub fegen und Pflege Grünflächen im Förder Park und Scheune \nArbeitsgeräte (Besen\, Laubharke etc.) sind mitzubringen. \nTreffpunkt: 09.30 Uhr Förder Platz ; Abschluss an der Scheune \nFür Essen und Getränke ist gesorgt
URL:http://www.heimatverein-grevenbrueck.de/event/pflege-gruenflaechen
LOCATION:Förder Platz\, Förder Platz\, Lennestadt\, NRW\, 57368\, Deutschland
END:VEVENT
BEGIN:VEVENT
DTSTART;TZID=Europe/Berlin:20230930T090000
DTEND;TZID=Europe/Berlin:20230930T190000
DTSTAMP:20260420T083104
CREATED:20230925T070910Z
LAST-MODIFIED:20230925T070910Z
UID:2927-1696064400-1696100400@www.heimatverein-grevenbrueck.de
SUMMARY:Schnadegang 2023
DESCRIPTION:
URL:http://www.heimatverein-grevenbrueck.de/event/schnadegang-2023
LOCATION:NRW
END:VEVENT
BEGIN:VEVENT
DTSTART;TZID=Europe/Berlin:20230902T140000
DTEND;TZID=Europe/Berlin:20230902T170000
DTSTAMP:20260420T083104
CREATED:20230827T135603Z
LAST-MODIFIED:20230827T135603Z
UID:2911-1693663200-1693674000@www.heimatverein-grevenbrueck.de
SUMMARY:Kartoffelernte 2023
DESCRIPTION:
URL:http://www.heimatverein-grevenbrueck.de/event/kartoffelernte-2023
LOCATION:Feld bei Fa. Schauerte\, Kölner Str. 46 (Brücke)\, Lennestadt-Grevenbrück\, 57368
END:VEVENT
BEGIN:VEVENT
DTSTART;TZID=Europe/Berlin:20230504T170000
DTEND;TZID=Europe/Berlin:20230504T190000
DTSTAMP:20260420T083104
CREATED:20230502T122529Z
LAST-MODIFIED:20230502T122550Z
UID:2898-1683219600-1683226800@www.heimatverein-grevenbrueck.de
SUMMARY:Kartoffel stetzen
DESCRIPTION:Am Donnerstag\, den 4. Mai 2023\, ab 17 Uhr\, werden auf dem „Kartoffelfeld“ hinter Fa. Schauerte wieder nach alter Sitte die Kartoffeln in die Erde gesetzt. Hierzu sind alle interessierten herzlich eingeladen.
URL:http://www.heimatverein-grevenbrueck.de/event/kartoffel-stetzen
LOCATION:Feld bei Fa. Schauerte\, Kölner Str. 46 (Brücke)\, Lennestadt-Grevenbrück\, 57368
END:VEVENT
BEGIN:VEVENT
DTSTART;TZID=Europe/Berlin:20230421T160000
DTEND;TZID=Europe/Berlin:20230421T190000
DTSTAMP:20260420T083104
CREATED:20230411T095207Z
LAST-MODIFIED:20230411T095207Z
UID:2891-1682092800-1682103600@www.heimatverein-grevenbrueck.de
SUMMARY:Tag der Sauberkeit 2023
DESCRIPTION:Auch in diesem Jahr wollen wir unseren schönen Ort Grevenbrück zum „Tag der Sauberkeit“ auf Vordermann bringen. \nWir bitten daher die Grevenbrücker Bürgerinnen und Bürger\, ob jung oder alt\, um Mithilfe beim Großreinemachen. \nWir treffen uns am Freitag\, den 21.04.2022 um 16.00 h am Förder Platz. \nWir freuen uns auf eine rege Beteiligung. \nJedes Kind bekommt bei der Teilnahme als Dankeschön ein kleines Geschenk.
URL:http://www.heimatverein-grevenbrueck.de/event/tag-der-sauberkeit-2023
LOCATION:Förder Platz\, Förder Platz\, Lennestadt\, NRW\, 57368\, Deutschland
END:VEVENT
BEGIN:VEVENT
DTSTART;TZID=Europe/Berlin:20230331T190000
DTEND;TZID=Europe/Berlin:20230331T210000
DTSTAMP:20260420T083104
CREATED:20230307T121823Z
LAST-MODIFIED:20230307T121823Z
UID:2882-1680289200-1680296400@www.heimatverein-grevenbrueck.de
SUMMARY:Jahresversammlung 2023
DESCRIPTION:
URL:http://www.heimatverein-grevenbrueck.de/event/jahresversammlung-2023
LOCATION:Kulturbahnhof Grevenbrück\, Bahnhofsplatz 10\, Lennestadt\, 57368\, Deutschland
END:VEVENT
BEGIN:VEVENT
DTSTART;TZID=Europe/Berlin:20221112T093000
DTEND;TZID=Europe/Berlin:20221112T123000
DTSTAMP:20260420T083104
CREATED:20221026T094743Z
LAST-MODIFIED:20221026T094743Z
UID:2876-1668245400-1668256200@www.heimatverein-grevenbrueck.de
SUMMARY:Pflege Grünflächen - Förder Park
DESCRIPTION:Laub fegen und Pflege Grünflächen im Förder Park und Scheune \nArbeitsgeräte (Besen\, Laubharke etc.) sind mitzubringen. \n 
URL:http://www.heimatverein-grevenbrueck.de/event/pflege-gruenflaechen-foerder-park
LOCATION:Förder Platz\, Förder Platz\, Lennestadt\, NRW\, 57368\, Deutschland
END:VEVENT
BEGIN:VEVENT
DTSTART;TZID=Europe/Berlin:20220917T084500
DTEND;TZID=Europe/Berlin:20220917T210000
DTSTAMP:20260420T083104
CREATED:20220721T091041Z
LAST-MODIFIED:20220721T091041Z
UID:2860-1663404300-1663448400@www.heimatverein-grevenbrueck.de
SUMMARY:Jahresausflug 2022
DESCRIPTION:Im Anhang die Einladung und der Tagesablauf zur Tagesfahrt zusammen mit dem Heimatverein Bonzel nach Arnsberg am 17.September 2022. Weitere Einzelheiten sind dem Anhang zu entnehmen. \nJahresausflug 2022
URL:http://www.heimatverein-grevenbrueck.de/event/jahresausflug-2022
LOCATION:NRW
END:VEVENT
BEGIN:VEVENT
DTSTART;TZID=Europe/Berlin:20220903T140000
DTEND;TZID=Europe/Berlin:20220903T180000
DTSTAMP:20260420T083104
CREATED:20220805T110019Z
LAST-MODIFIED:20220805T110019Z
UID:2863-1662213600-1662228000@www.heimatverein-grevenbrueck.de
SUMMARY:*** Vorankündigung *** Kartoffelernte
DESCRIPTION:Die historische Kartoffellese des Heimatvereins Grevenbrück ist am Samstag\, dem 3. September\, ab 14 Uhr auf dem Feld hinter der Firma Schauerte geplant. \nAlles weitere folgt.
URL:http://www.heimatverein-grevenbrueck.de/event/vorankuendigung-kartoffelernte
LOCATION:Feld bei Fa. Schauerte\, Kölner Str. 46 (Brücke)\, Lennestadt-Grevenbrück\, 57368
END:VEVENT
BEGIN:VEVENT
DTSTART;TZID=Europe/Berlin:20220701T180000
DTEND;TZID=Europe/Berlin:20220701T233000
DTSTAMP:20260420T083104
CREATED:20220621T083421Z
LAST-MODIFIED:20220621T083426Z
UID:2850-1656698400-1656718200@www.heimatverein-grevenbrueck.de
SUMMARY:Brunnenfest am Förder Platz
DESCRIPTION:
URL:http://www.heimatverein-grevenbrueck.de/event/brunnenfest-am-foerder-platz
LOCATION:Förder Platz\, Förder Platz\, Lennestadt\, NRW\, 57368\, Deutschland
END:VEVENT
BEGIN:VEVENT
DTSTART;TZID=Europe/Berlin:20220422T160000
DTEND;TZID=Europe/Berlin:20220422T190000
DTSTAMP:20260420T083104
CREATED:20220422T140028Z
LAST-MODIFIED:20220421T054540Z
UID:2818-1650643200-1650654000@www.heimatverein-grevenbrueck.de
SUMMARY:Tag der Sauberkeit 2022 in Grevenbrück
DESCRIPTION:Auch in diesem Jahr wollen wir unseren schönen Ort Grevenbrück zum „Tag der Sauberkeit“ auf Vordermann bringen. \nWir bitten daher die Grevenbrücker Bürgerinnen und Bürger\, ob jung oder alt\, um Mithilfe beim Großreinemachen. \nWir treffen uns am Freitag\, den 22.04.2022 um 16.00 h am Förder Platz. \nWir freuen uns auf eine rege Beteiligung.
URL:http://www.heimatverein-grevenbrueck.de/event/tag-der-sauberkeit-2022-in-grevenbrueck
LOCATION:Förder Platz\, Förder Platz\, Lennestadt\, NRW\, 57368\, Deutschland
END:VEVENT
BEGIN:VEVENT
DTSTART;TZID=Europe/Berlin:20220422T160000
DTEND;TZID=Europe/Berlin:20220422T190000
DTSTAMP:20260420T083104
CREATED:20220421T054838Z
LAST-MODIFIED:20220421T054838Z
UID:2847-1650643200-1650654000@www.heimatverein-grevenbrueck.de
SUMMARY:Tag der Sauberkeit 2022 - neuer Termin
DESCRIPTION:Auch in diesem Jahr wollen wir unseren schönen Ort Grevenbrück zum „Tag der Sauberkeit“ auf Vordermann bringen. \nWir bitten daher die Grevenbrücker Bürgerinnen und Bürger\, ob jung oder alt\, um Mithilfe beim Großreinemachen. \nWir treffen uns am Freitag\, den 22.04.2022 um 16.00 h am Förder Platz. \nWir freuen uns auf eine rege Beteiligung.
URL:http://www.heimatverein-grevenbrueck.de/event/tag-der-sauberkeit-2022-neuer-termin
LOCATION:Förder Platz\, Förder Platz\, Lennestadt\, NRW\, 57368\, Deutschland
END:VEVENT
BEGIN:VEVENT
DTSTART;TZID=Europe/Berlin:20220401T190000
DTEND;TZID=Europe/Berlin:20220401T220000
DTSTAMP:20260420T083104
CREATED:20220207T102052Z
LAST-MODIFIED:20220207T102052Z
UID:2768-1648839600-1648850400@www.heimatverein-grevenbrueck.de
SUMMARY:Jahresversammlung 2022
DESCRIPTION:
URL:http://www.heimatverein-grevenbrueck.de/event/jahresversammlung-2022
LOCATION:Kulturbahnhof Grevenbrück\, Bahnhofsplatz 10\, Lennestadt\, 57368\, Deutschland
END:VEVENT
BEGIN:VEVENT
DTSTART;TZID=Europe/Berlin:20220307T190000
DTEND;TZID=Europe/Berlin:20220307T210000
DTSTAMP:20260420T083104
CREATED:20220208T175407Z
LAST-MODIFIED:20220208T175407Z
UID:2770-1646679600-1646686800@www.heimatverein-grevenbrueck.de
SUMMARY:Monatsversammlung für Vorstand und Beirat
DESCRIPTION:
URL:http://www.heimatverein-grevenbrueck.de/event/monatsversammlung-fuer-vorstand-und-beirat-17
LOCATION:Gasthof Kramer
END:VEVENT
BEGIN:VEVENT
DTSTART;TZID=Europe/Berlin:20220305T093000
DTEND;TZID=Europe/Berlin:20220305T130000
DTSTAMP:20260420T083104
CREATED:20220304T084324Z
LAST-MODIFIED:20220304T084324Z
UID:2775-1646472600-1646485200@www.heimatverein-grevenbrueck.de
SUMMARY:Arbeiten in / an der Scheune
DESCRIPTION:
URL:http://www.heimatverein-grevenbrueck.de/event/arbeiten-in-an-der-scheune-2
LOCATION:„Scheune“ des Heimatvereins\, Lennestadt\, 57368
END:VEVENT
BEGIN:VEVENT
DTSTART;TZID=Europe/Berlin:20220219T093000
DTEND;TZID=Europe/Berlin:20220219T130000
DTSTAMP:20260420T083104
CREATED:20220207T101937Z
LAST-MODIFIED:20220218T083611Z
UID:2766-1645263000-1645275600@www.heimatverein-grevenbrueck.de
SUMMARY:Arbeiten in/an der Scheune - fällt aus (Unwetter)
DESCRIPTION:
URL:http://www.heimatverein-grevenbrueck.de/event/arbeiten-in-an-der-scheune
LOCATION:„Scheune“ des Heimatvereins\, Lennestadt\, 57368
END:VEVENT
BEGIN:VEVENT
DTSTART;TZID=Europe/Berlin:20220207T190000
DTEND;TZID=Europe/Berlin:20220207T203000
DTSTAMP:20260420T083104
CREATED:20220207T101706Z
LAST-MODIFIED:20220207T101807Z
UID:2761-1644260400-1644265800@www.heimatverein-grevenbrueck.de
SUMMARY:Monatsversammlung für Vorstand und Beirat
DESCRIPTION:Veranstaltungsort: Gasthof Kramer\, Bonzel
URL:http://www.heimatverein-grevenbrueck.de/event/monatsversammlung-fuer-vorstand-und-beirat-16
LOCATION:Gasthof Kramer
END:VEVENT
BEGIN:VEVENT
DTSTART;TZID=Europe/Berlin:20211120T150000
DTEND;TZID=Europe/Berlin:20220116T170000
DTSTAMP:20260420T083104
CREATED:20210709T064422Z
LAST-MODIFIED:20210909T194919Z
UID:2726-1637420400-1642352400@www.heimatverein-grevenbrueck.de
SUMMARY:Reinhold Bicher Lebenskreise
DESCRIPTION:Gedächtnisausstellung anlässlich seines 125. Geburtstages \n \n 
URL:http://www.heimatverein-grevenbrueck.de/event/bicher-ausstellung
LOCATION:Kulturbahnhof Grevenbrück\, Bahnhofsplatz 10\, Lennestadt\, 57368\, Deutschland
END:VEVENT
BEGIN:VEVENT
DTSTART;TZID=Europe/Berlin:20211112T193000
DTEND;TZID=Europe/Berlin:20211112T220000
DTSTAMP:20260420T083104
CREATED:20211107T145547Z
LAST-MODIFIED:20211107T145547Z
UID:2757-1636745400-1636754400@www.heimatverein-grevenbrueck.de
SUMMARY:Heimatabend im Gasthof Born
DESCRIPTION:Der Heimatverein Grevenbrück lädt am Freitag\, 12.11.2021 um 19:30 Uhr alle Vereinsmitglieder und interessierte Bürger zum ersten „Heimatabend“ im Gasthof Born (Lehmbergstraße 66) ein. \nHistorische Fotografien dürfen gerne mitgebracht werden. In gemütlicher Runde können dann besondere Erlebnisse und „Dönekes“ ausgetauscht werden. Ferner sind Musik- und Filmbeiträge eingeplant. Jung und Alt sind herzlich willkommen. \nEs gelten die bekannten 3 G Regeln.
URL:http://www.heimatverein-grevenbrueck.de/event/heimatabend-im-gasthof-born
LOCATION:NRW
END:VEVENT
BEGIN:VEVENT
DTSTART;TZID=Europe/Berlin:20211015T190000
DTEND;TZID=Europe/Berlin:20211015T210000
DTSTAMP:20260420T083104
CREATED:20210809T114704Z
LAST-MODIFIED:20210809T114704Z
UID:2732-1634324400-1634331600@www.heimatverein-grevenbrueck.de
SUMMARY:Jahresversammlung 2021
DESCRIPTION:
URL:http://www.heimatverein-grevenbrueck.de/event/jahresversammlung-2021
LOCATION:Kulturbahnhof Grevenbrück\, Bahnhofsplatz 10\, Lennestadt\, 57368\, Deutschland
END:VEVENT
BEGIN:VEVENT
DTSTART;TZID=Europe/Berlin:20210904T140000
DTEND;TZID=Europe/Berlin:20210904T170000
DTSTAMP:20260420T083104
CREATED:20210830T093824Z
LAST-MODIFIED:20210830T093824Z
UID:2735-1630764000-1630774800@www.heimatverein-grevenbrueck.de
SUMMARY:Kartoffelernte
DESCRIPTION:Die historische Kartoffellese des Heimatvereins Grevenbrück ist am Samstag\, dem 4. September\, ab 14 Uhr auf dem Feld hinter der Firma Schauerte. Zugang zum Feld über die Twiene auf das Grundstück der Firma Schauerte\, Parkmöglichkeiten auf dem Firmengelände. \nFür Verpflegung ist gesorgt\, Körbe bitte mitbringen. \nTeilnahme gerne mit Anmeldung unter 0176 72745414 (Fa\,. Stahl)
URL:http://www.heimatverein-grevenbrueck.de/event/kartoffelernte-3
LOCATION:Feld bei Fa. Schauerte\, Kölner Str. 46 (Brücke)\, Lennestadt-Grevenbrück\, 57368
END:VEVENT
BEGIN:VEVENT
DTSTART;TZID=Europe/Berlin:20210820T190000
DTEND;TZID=Europe/Berlin:20210820T210000
DTSTAMP:20260420T083104
CREATED:20210808T160828Z
LAST-MODIFIED:20210808T160828Z
UID:2730-1629486000-1629493200@www.heimatverein-grevenbrueck.de
SUMMARY:Höhlenforscher zu Gast in Grevenbrück
DESCRIPTION:Der Heimatverein Grevenbrück konnte den passionierten Höhlenforscher Joachim Hoberg aus Attendorn für einen Bildervortrag gewinnen. \nAm Freitag\, den 20. August\, wird er im Kultur-Bahnhof Grevenbrück über die Geologie und Höhlen unserer Gegend berichten. Interessierte Gäste sind herzlich willkommen. Beginn der Veranstaltung um 19.00 Uhr.
URL:http://www.heimatverein-grevenbrueck.de/event/hoehlenforscher-zu-gast-in-grevenbrueck
LOCATION:Kulturbahnhof Grevenbrück\, Bahnhofsplatz 10\, Lennestadt\, 57368\, Deutschland
END:VEVENT
BEGIN:VEVENT
DTSTART;TZID=Europe/Berlin:20210417T100000
DTEND;TZID=Europe/Berlin:20210417T150000
DTSTAMP:20260420T083104
CREATED:20210410T100615Z
LAST-MODIFIED:20210410T100615Z
UID:2710-1618653600-1618671600@www.heimatverein-grevenbrueck.de
SUMMARY:Tag der Sauberkeit in Grevenbrück
DESCRIPTION:Liebe Heimatfreunde in Grevenbrück\, \nder Heimatverein Grevenbrück beteiligt sich auch in diesem Jahr am Tag der Sauberkeit\, den die Stadt Lennestadt nun bereits zum 18. Mal durchführt. \nGemäß den Corona-Auflagen sind Einzelpersonen\, Partner und Familien aufgerufen\, in Grevenbrück und Umgebung mitzuhelfen. \nAm Samstag den 17.April können am Förder Platz zwischen 10.00 h und 11.00 h Müllsäcke abgeholt werden. \nDiese werden dort wieder voll zwischen 14.00 h und 15.00 h entgegengenommen. \nFür Kinder liegt eine Überraschung bereit. \nDer Verein freut sich über viele Aktive! \nWir als Heimatverein würden uns über ein reges Engagement freuen!
URL:http://www.heimatverein-grevenbrueck.de/event/tag-der-sauberkeit-in-grevenbrueck-2
LOCATION:NRW
END:VEVENT
BEGIN:VEVENT
DTSTART;TZID=Europe/Berlin:20210326T190000
DTEND;TZID=Europe/Berlin:20210326T220000
DTSTAMP:20260420T083104
CREATED:20210301T073019Z
LAST-MODIFIED:20210301T073019Z
UID:2692-1616785200-1616796000@www.heimatverein-grevenbrueck.de
SUMMARY:Jahresversammlung 2021 - wird verschoben
DESCRIPTION:Leider muss die Jahresversammlung des Heimatverein Grevenbrück e.V. verschoben werden. \nEin neuer Termin wird rechtzeitig bekannt gegeben. \nDer Vorstand \n  \n 
URL:http://www.heimatverein-grevenbrueck.de/event/jahresversammlung-2021-wird-verschoben
LOCATION:NRW
END:VEVENT
BEGIN:VEVENT
DTSTART;TZID=Europe/Berlin:20200828T190000
DTEND;TZID=Europe/Berlin:20200828T220000
DTSTAMP:20260420T083104
CREATED:20200309T200951Z
LAST-MODIFIED:20200810T064730Z
UID:2629-1598641200-1598652000@www.heimatverein-grevenbrueck.de
SUMMARY:Jahresversammlung - neuer Termin
DESCRIPTION:Einladung zur Jahresversammlung am Freitag\, 28. August 2020\,\nBeginn 19.00 Uhr im Kultur-Bahnhof\,  Grevenbrück \n  \nTagesordnung \n  \n1) Begrüßung \n2) Totengedenken \n3) Verlesen des Protokolls \n4) Rück- und Vorschau zum Vereinsleben \n5) Bericht der Kassiererin \n6) Bericht der Kassenprüfer \n7) Wahlen \n\n1. Vorsitzender\nKassierin\nBeiratsmitglieder\n\n8) Verschiedenes \n  \nEine Änderung oder Erweiterung der Tagesordnung kann bis zum Beginn der Versammlung beim Vorsitzenden beantragt werden. \nDas Jahresheft Ausgabe 2020 wird an diesem Abend für € 7\,- angeboten. \nDer Vorstand freut sich auf eine rege Beteiligung und verbleibt mit heimatlichen Grüßen \n  \nHubertus Kaiser    Klaus Skrodolies     Anabel Talavera     Manfred Graf \n1. Vorsitzender       2. Vorsitzender          Kassierein             Schriftführer
URL:http://www.heimatverein-grevenbrueck.de/event/jahresversammlung-2
LOCATION:Kulturbahnhof Grevenbrück\, Bahnhofsplatz 10\, Lennestadt\, 57368\, Deutschland
END:VEVENT
BEGIN:VEVENT
DTSTART;TZID=Europe/Berlin:20200613T093000
DTEND;TZID=Europe/Berlin:20200613T123000
DTSTAMP:20260420T083104
CREATED:20200610T101733Z
LAST-MODIFIED:20200610T101733Z
UID:2674-1592040600-1592051400@www.heimatverein-grevenbrueck.de
SUMMARY:Pflege Grünflächen\, Hecken schneiden
DESCRIPTION:Am Samstag 13.06.2020 ab 09.30 Uhr wird die Hecke am Förder Platz geschnitten. Bitte Arbeitsgeräte (Heckenschere\, Besen usw.) mitbringen. Für Essen und Getränke ist gesorgt. \n 
URL:http://www.heimatverein-grevenbrueck.de/event/pflege-gruenflaechen-hecken-schneiden
LOCATION:Förder Platz\, Förder Platz\, Lennestadt\, NRW\, 57368\, Deutschland
END:VEVENT
BEGIN:VEVENT
DTSTART;TZID=Europe/Berlin:20200509T090000
DTEND;TZID=Europe/Berlin:20200509T140000
DTSTAMP:20260420T083104
CREATED:20200502T172058Z
LAST-MODIFIED:20200502T172058Z
UID:2667-1589014800-1589032800@www.heimatverein-grevenbrueck.de
SUMMARY:Tag der Sauberkeit in Grevenbrück
DESCRIPTION:Liebe Heimatfreunde in Grevenbrück\, \ndie Stadt Lennestadt initiiert jährlich den „Tag der Sauberkeit“. \nNun möchte sie die Orte ermutigen\, die Aktion nachzuholen. \nEntsprechend den Sicherheitsvorgaben sollen nur Familien\, \nPartner oder Einzelpersonen in Eigenregie die Flächen im Ort reinigen. \nDer Heimatverein gibt am Samstag den 9.Mai zwischen 9.00 h und 10.00 h \nam Museum Müllsäcke und eine Überraschung für Kinder aus. \nZwischen 13.00 h und 14.00 h werden dort die vollen Säcke wieder \nangenommen und vom Bauhof entsorgt. \nBitte diese E-Mail weiterleiten oder Personen direkt ansprechen. \nWir als Heimatverein würden uns über ein reges Engagement freuen!
URL:http://www.heimatverein-grevenbrueck.de/event/tag-der-sauberkeit-in-grevenbrueck
LOCATION:Museum der Stadt Lennestadt\, Altes Amtshaus\, Kölner Straße 57\, Lennestadt-Grevenbrück\, 57368\, Deutschland
END:VEVENT
END:VCALENDAR